BEGIN:VCALENDAR
VERSION:2.0
PRODID:-//Tukios.com/
BEGIN:VEVENT
UID:6fd3132a-07d9-49fa-a20f-a402a536eb3f@www.bramanmortuary.com
DTSTAMP:20260423T003138Z
DTSTART:20260430T183000Z
DTEND:20260430T193000Z
SUMMARY:Burial
DESCRIPTION:
URL:https://www.bramanmortuary.com/obituaries/shirley-landry
LOCATION:Omaha Nation Cemetery 14250 Schram Road  Omaha NE 68138
GEO:41.1327058;-96.1352274
END:VEVENT
END:VCALENDAR