BEGIN:VCALENDAR
VERSION:2.0
PRODID:-//Tukios.com/
BEGIN:VEVENT
UID:2a564c2b-cdda-4176-9476-f6007960d314@www.bramanmortuary.com
DTSTAMP:20260424T233836Z
DTSTART:20260604T183000Z
DTEND:20260604T193000Z
SUMMARY:Memorial Mass
DESCRIPTION:
URL:https://www.bramanmortuary.com/obituaries/robert-falkiewicz
LOCATION:St. Francis of Assisi Church 11401 Leesville Road  Raleigh NC 
	27613
GEO:35.9186519;-78.7393306
END:VEVENT
END:VCALENDAR