BEGIN:VCALENDAR
VERSION:2.0
PRODID:-//Tukios.com/
BEGIN:VEVENT
UID:f6cdf8aa-b687-4835-b4bc-230c2259e130@www.bramanmortuary.com
DTSTAMP:20260424T234551Z
DTSTART:20260603T230000Z
DTEND:20260604T020000Z
SUMMARY:Celebration of Life
DESCRIPTION:
URL:https://www.bramanmortuary.com/obituaries/robert-falkiewicz
LOCATION:Hampton Inn & Suites Raleigh/Crabtree Valley 3920 Arrow Drive  
	Raleigh NC 27612
GEO:35.8362591;-78.6728781
END:VEVENT
END:VCALENDAR