BEGIN:VCALENDAR
VERSION:2.0
PRODID:-//Tukios.com/
BEGIN:VEVENT
UID:ee91e83e-18d9-4ced-9b76-3132bdfb61b2@www.bramanmortuary.com
DTSTAMP:20260420T233041Z
DTSTART:20260423T160000Z
DTEND:20260423T170000Z
SUMMARY:Celebration of Life
DESCRIPTION:
URL:https://www.bramanmortuary.com/obituaries/christina-marinovic
LOCATION:Braman Mortuary (Millard Chapel) 6505 South 144th Street  Omaha 
	NE 68137
GEO:41.1940054;-96.1380645
END:VEVENT
END:VCALENDAR