BEGIN:VCALENDAR
VERSION:2.0
PRODID:-//Tukios.com/
BEGIN:VEVENT
UID:d843f732-3e92-426f-8d59-9c428a8d17b4@www.bramanmortuary.com
DTSTAMP:20260420T233035Z
DTSTART:20260423T150000Z
DTEND:20260423T160000Z
SUMMARY:Visitation
DESCRIPTION:
URL:https://www.bramanmortuary.com/obituaries/christina-marinovic
LOCATION:Braman Mortuary (Millard Chapel) 6505 South 144th Street  Omaha 
	NE 68137
GEO:41.1940054;-96.1380645
END:VEVENT
END:VCALENDAR